BEGIN:VCALENDAR
VERSION:2.0
PRODID:-//Sociedad Chilena de Geotecnia - ECPv5.16.4//NONSGML v1.0//EN
CALSCALE:GREGORIAN
METHOD:PUBLISH
X-WR-CALNAME:Sociedad Chilena de Geotecnia
X-ORIGINAL-URL:https://sochige.cl
X-WR-CALDESC:Eventos para Sociedad Chilena de Geotecnia
REFRESH-INTERVAL;VALUE=DURATION:PT1H
X-Robots-Tag:noindex
X-PUBLISHED-TTL:PT1H
BEGIN:VTIMEZONE
TZID:America/Halifax
BEGIN:DAYLIGHT
TZOFFSETFROM:-0400
TZOFFSETTO:-0300
TZNAME:ADT
DTSTART:20230312T060000
END:DAYLIGHT
BEGIN:STANDARD
TZOFFSETFROM:-0300
TZOFFSETTO:-0400
TZNAME:AST
DTSTART:20231105T050000
END:STANDARD
END:VTIMEZONE
BEGIN:VEVENT
DTSTART;TZID=America/Halifax:20231219T110000
DTEND;TZID=America/Halifax:20231219T120000
DTSTAMP:20260420T011609
CREATED:20231201T210051Z
LAST-MODIFIED:20231201T210051Z
UID:14108-1702983600-1702987200@sochige.cl
SUMMARY:Invitación a lanzamiento del libro "Ensayos geotécnicos in situ en profundidad"
DESCRIPTION:
URL:https://sochige.cl/2023/12/01/invitacion-a-lanzamiento-del-libro-ensayos-geotecnicos-in-situ-en-profundidad/#new_tab
ATTACH;FMTTYPE=image/png:https://sochige.cl/wp-content/uploads/2023/12/inv_presentacion_ensayos_geotecnicos.png
END:VEVENT
END:VCALENDAR