BEGIN:VCALENDAR
VERSION:2.0
PRODID:-//Sociedad Chilena de Geotecnia - ECPv5.16.4//NONSGML v1.0//EN
CALSCALE:GREGORIAN
METHOD:PUBLISH
X-ORIGINAL-URL:https://sochige.cl
X-WR-CALDESC:Eventos para Sociedad Chilena de Geotecnia
REFRESH-INTERVAL;VALUE=DURATION:PT1H
X-Robots-Tag:noindex
X-PUBLISHED-TTL:PT1H
BEGIN:VTIMEZONE
TZID:America/Halifax
BEGIN:DAYLIGHT
TZOFFSETFROM:-0400
TZOFFSETTO:-0300
TZNAME:ADT
DTSTART:20240310T060000
END:DAYLIGHT
BEGIN:STANDARD
TZOFFSETFROM:-0300
TZOFFSETTO:-0400
TZNAME:AST
DTSTART:20241103T050000
END:STANDARD
END:VTIMEZONE
BEGIN:VEVENT
DTSTART;TZID=America/Halifax:20240809T160000
DTEND;TZID=America/Halifax:20240809T170000
DTSTAMP:20260419T103006
CREATED:20240808T155806Z
LAST-MODIFIED:20240808T160648Z
UID:14443-1723219200-1723222800@sochige.cl
SUMMARY:Primer Ciclo de Conferencias sobre Relaves y Residuos Mineros\,  Roberto Gesche
DESCRIPTION:El comité técnico Nacional de Relaves y Residuos Mineros del Perú (CT-200) de la APGEO\, se complace en presentar a Roberto Gesche\, quién nos brindará su conocimiento y experiencia como ponente en esta ocasión.
URL:https://sochige.cl/2024/08/08/primer-ciclo-de-conferencias-sobre-relaves-y-residuos-mineros-roberto-gesche/
ATTACH;FMTTYPE=image/jpeg:https://sochige.cl/wp-content/uploads/2024/08/09-agosto-roberto-gesche-_1_.jpg
END:VEVENT
END:VCALENDAR