BEGIN:VCALENDAR
VERSION:2.0
PRODID:-//Sociedad Chilena de Geotecnia - ECPv5.16.4//NONSGML v1.0//EN
CALSCALE:GREGORIAN
METHOD:PUBLISH
X-ORIGINAL-URL:https://sochige.cl
X-WR-CALDESC:Eventos para Sociedad Chilena de Geotecnia
REFRESH-INTERVAL;VALUE=DURATION:PT1H
X-Robots-Tag:noindex
X-PUBLISHED-TTL:PT1H
BEGIN:VTIMEZONE
TZID:America/Halifax
BEGIN:DAYLIGHT
TZOFFSETFROM:-0400
TZOFFSETTO:-0300
TZNAME:ADT
DTSTART:20240310T060000
END:DAYLIGHT
BEGIN:STANDARD
TZOFFSETFROM:-0300
TZOFFSETTO:-0400
TZNAME:AST
DTSTART:20241103T050000
END:STANDARD
END:VTIMEZONE
BEGIN:VEVENT
DTSTART;VALUE=DATE:20241024
DTEND;VALUE=DATE:20241025
DTSTAMP:20260423T080235
CREATED:20241018T202355Z
LAST-MODIFIED:20241018T202355Z
UID:14620-1729728000-1729814399@sochige.cl
SUMMARY:Seminario de cierre del proyecto FONDEF ID22I10032 “OBTENCIÓN DE Vs y Tg MEDIANTE MÉTODOS BASADOS EN ONDAS DE SUPERFICIE”
DESCRIPTION:
URL:https://sochige.cl/2024/10/18/seminario-de-cierre-del-proyecto-fondef-id22i10032-obtencion-de-vs-y-tg-mediante-metodos-basados-en-ondas-de-superficie/
ATTACH;FMTTYPE=image/jpeg:https://sochige.cl/wp-content/uploads/2024/10/Foto-evento-Vs.jpeg
END:VEVENT
END:VCALENDAR