BEGIN:VCALENDAR
VERSION:2.0
PRODID:-//Sociedad Chilena de Geotecnia - ECPv5.16.4//NONSGML v1.0//EN
CALSCALE:GREGORIAN
METHOD:PUBLISH
X-WR-CALNAME:Sociedad Chilena de Geotecnia
X-ORIGINAL-URL:https://sochige.cl
X-WR-CALDESC:Eventos para Sociedad Chilena de Geotecnia
REFRESH-INTERVAL;VALUE=DURATION:PT1H
X-Robots-Tag:noindex
X-PUBLISHED-TTL:PT1H
BEGIN:VTIMEZONE
TZID:America/Halifax
BEGIN:DAYLIGHT
TZOFFSETFROM:-0400
TZOFFSETTO:-0300
TZNAME:ADT
DTSTART:20240310T060000
END:DAYLIGHT
BEGIN:STANDARD
TZOFFSETFROM:-0300
TZOFFSETTO:-0400
TZNAME:AST
DTSTART:20241103T050000
END:STANDARD
END:VTIMEZONE
BEGIN:VEVENT
DTSTART;TZID=America/Halifax:20241107T110000
DTEND;TZID=America/Halifax:20241107T180000
DTSTAMP:20260420T050303
CREATED:20241024T185410Z
LAST-MODIFIED:20241024T185410Z
UID:14629-1730977200-1731002400@sochige.cl
SUMMARY:Invitación Conf. "Desarrollo de tecnología de vanguardia para la astronomía global"
DESCRIPTION:
URL:https://sochige.cl/2024/10/24/invitacion-conf-desarrollo-de-tecnologia-de-vanguardia-para-la-astronomia-global/
END:VEVENT
END:VCALENDAR