BEGIN:VCALENDAR
VERSION:2.0
PRODID:-//Sociedad Chilena de Geotecnia - ECPv5.16.4//NONSGML v1.0//EN
CALSCALE:GREGORIAN
METHOD:PUBLISH
X-WR-CALNAME:Sociedad Chilena de Geotecnia
X-ORIGINAL-URL:https://sochige.cl
X-WR-CALDESC:Eventos para Sociedad Chilena de Geotecnia
REFRESH-INTERVAL;VALUE=DURATION:PT1H
X-Robots-Tag:noindex
X-PUBLISHED-TTL:PT1H
BEGIN:VTIMEZONE
TZID:UTC
BEGIN:STANDARD
TZOFFSETFROM:+0000
TZOFFSETTO:+0000
TZNAME:UTC
DTSTART:20230101T000000
END:STANDARD
END:VTIMEZONE
BEGIN:VEVENT
DTSTART;TZID=UTC:20230625T080000
DTEND;TZID=UTC:20230628T170000
DTSTAMP:20260422T142717
CREATED:20221004T202849Z
LAST-MODIFIED:20221004T202849Z
UID:12948-1687680000-1687971600@sochige.cl
SUMMARY:IX Congreso Internacional de Geotecnia Ambiental l “Artisanal and small-scale mining and waste: geotechnical and geoenvironmental aspects”
DESCRIPTION:El congreso 9ICEG  \nLugar; Chania\, en la isla de Creta en Grecia\, \nFecha 25 y el 28 de junio de 2023.
URL:https://sochige.cl/2022/10/04/ix-congreso-internacional-de-geotecnia-ambiental-l-artisanal-and-small-scale-mining-and-waste-geotechnical-and-geoenvironmental-aspects/
END:VEVENT
END:VCALENDAR