BEGIN:VCALENDAR
VERSION:2.0
PRODID:-//Sociedad Chilena de Geotecnia - ECPv5.16.4//NONSGML v1.0//EN
CALSCALE:GREGORIAN
METHOD:PUBLISH
X-WR-CALNAME:Sociedad Chilena de Geotecnia
X-ORIGINAL-URL:https://sochige.cl
X-WR-CALDESC:Eventos para Sociedad Chilena de Geotecnia
REFRESH-INTERVAL;VALUE=DURATION:PT1H
X-Robots-Tag:noindex
X-PUBLISHED-TTL:PT1H
BEGIN:VTIMEZONE
TZID:America/Halifax
BEGIN:DAYLIGHT
TZOFFSETFROM:-0400
TZOFFSETTO:-0300
TZNAME:ADT
DTSTART:20230312T060000
END:DAYLIGHT
BEGIN:STANDARD
TZOFFSETFROM:-0300
TZOFFSETTO:-0400
TZNAME:AST
DTSTART:20231105T050000
END:STANDARD
END:VTIMEZONE
BEGIN:VEVENT
DTSTART;TZID=America/Halifax:20231109T190000
DTEND;TZID=America/Halifax:20231109T200000
DTSTAMP:20260420T024745
CREATED:20231103T202550Z
LAST-MODIFIED:20231103T202550Z
UID:14055-1699556400-1699560000@sochige.cl
SUMMARY:Charla “De las estimaciones a las certezas: tecnologías de vanguardia en cimentaciones profundas”
DESCRIPTION:
URL:https://sochige.cl/2023/11/03/charla-de-las-estimaciones-a-las-certezas-tecnologias-de-vanguardia-en-cimentaciones-profundas/
ATTACH;FMTTYPE=image/jpeg:https://sochige.cl/wp-content/uploads/2023/11/img-charla-sochige-9-nov.jpg
END:VEVENT
BEGIN:VEVENT
DTSTART;TZID=America/Halifax:20231122T160000
DTEND;TZID=America/Halifax:20231122T170000
DTSTAMP:20260420T024745
CREATED:20230915T212903Z
LAST-MODIFIED:20230915T212903Z
UID:13963-1700668800-1700672400@sochige.cl
SUMMARY:Charla 22 de Noviembre \, Stavroula Kontoe\, título por confirmar.
DESCRIPTION:Fecha: 22 de noviembre\, 16:00 hrs\nTipo de charla: Charla online\nExpositora: Stavroula Kontoe\, Profesora Asociada en la Universidad de Patras (Grecia) y Profesora externa en Imperial College London. M.Sc en Mecánica de Suelos y PhD en Geotecnia computacional\, ambos en Imperial College London
URL:https://sochige.cl/evento/charla-22-de-noviembre-stavroula-kontoe-titulo-por-confirmar/
END:VEVENT
BEGIN:VEVENT
DTSTART;VALUE=DATE:20231129
DTEND;VALUE=DATE:20231130
DTSTAMP:20260420T024745
CREATED:20231103T210106Z
LAST-MODIFIED:20231103T210106Z
UID:14069-1701216000-1701302399@sochige.cl
SUMMARY:Desafío Geotécnico SOCHIGE Concepción
DESCRIPTION:
URL:https://sochige.cl/2023/11/03/desafio-geotecnico-sochige-concepcion/
ATTACH;FMTTYPE=image/jpeg:https://sochige.cl/wp-content/uploads/2023/11/94901b8b-c225-4411-aca8-8d6d2aca746b.jpg
END:VEVENT
END:VCALENDAR