BEGIN:VCALENDAR
VERSION:2.0
PRODID:-//Sociedad Chilena de Geotecnia - ECPv5.16.4//NONSGML v1.0//EN
CALSCALE:GREGORIAN
METHOD:PUBLISH
X-ORIGINAL-URL:https://sochige.cl
X-WR-CALDESC:Eventos para Sociedad Chilena de Geotecnia
REFRESH-INTERVAL;VALUE=DURATION:PT1H
X-Robots-Tag:noindex
X-PUBLISHED-TTL:PT1H
BEGIN:VTIMEZONE
TZID:America/Halifax
BEGIN:DAYLIGHT
TZOFFSETFROM:-0400
TZOFFSETTO:-0300
TZNAME:ADT
DTSTART:20240310T060000
END:DAYLIGHT
BEGIN:STANDARD
TZOFFSETFROM:-0300
TZOFFSETTO:-0400
TZNAME:AST
DTSTART:20241103T050000
END:STANDARD
END:VTIMEZONE
BEGIN:VEVENT
DTSTART;TZID=America/Halifax:20240516T180000
DTEND;TZID=America/Halifax:20240516T193000
DTSTAMP:20260419T145736
CREATED:20240509T192726Z
LAST-MODIFIED:20240509T192837Z
UID:14309-1715882400-1715887800@sochige.cl
SUMMARY:Charla: "Ensayos de laboratorio cíclicos y/o dinámicos de suelos en Chile"
DESCRIPTION:16 de Mayo\, 18:00 hrs\, online.\nPresenta: Omar Nuñez\, Ingeniero Civil UChile\, MSc University College London. Gerente General Laboratorio ONE Geotecnia.\nLink de conexión https://reuna.zoom.us/meeting/register/tZEqceGgpzMoHd0r7mfH_VrEcA6FklpUFxVD
URL:https://sochige.cl/2024/05/09/charla-ensayos-de-laboratorio-ciclicos-y-o-dinamicos-de-suelos-en-chile/
ATTACH;FMTTYPE=image/jpeg:https://sochige.cl/wp-content/uploads/2024/05/6E94C3C2-DDE2-444B-AE6F-61402F82F4A2.jpg
END:VEVENT
BEGIN:VEVENT
DTSTART;TZID=America/Halifax:20240528T180000
DTEND;TZID=America/Halifax:20240528T200000
DTSTAMP:20260419T145736
CREATED:20240524T140656Z
LAST-MODIFIED:20240524T141004Z
UID:14360-1716919200-1716926400@sochige.cl
SUMMARY:Charla: "Suelos parcialmente saturados: Una mirada desde la geotecnia minera"
DESCRIPTION:Camilo Morales\, Ingeniero Civil Msc UC\,  Msc in Soil Mechanics Imperial College London\, Tesorero  de Sochige. \n\nFecha y hora: martes 28 de mayo\, 18:00 hrs\nhttps://reuna.zoom.us/meeting/register/tZIkdumqrjktGN1znBaiKvAPqYtxZ4LcquVM\n \n\n 
URL:https://sochige.cl/2024/05/24/charla-suelos-parcialmente-saturados-una-mirada-desde-la-geotecnia-minera/
ATTACH;FMTTYPE=image/jpeg:https://sochige.cl/wp-content/uploads/2024/05/charla-Suelos-parcialmente-saturados-Una-mirada-desde-la-geotecnia-minera.jpg
END:VEVENT
END:VCALENDAR