BEGIN:VCALENDAR
VERSION:2.0
PRODID:-//Sociedad Chilena de Geotecnia - ECPv5.16.4//NONSGML v1.0//EN
CALSCALE:GREGORIAN
METHOD:PUBLISH
X-WR-CALNAME:Sociedad Chilena de Geotecnia
X-ORIGINAL-URL:https://sochige.cl
X-WR-CALDESC:Eventos para Sociedad Chilena de Geotecnia
REFRESH-INTERVAL;VALUE=DURATION:PT1H
X-Robots-Tag:noindex
X-PUBLISHED-TTL:PT1H
BEGIN:VTIMEZONE
TZID:America/Halifax
BEGIN:DAYLIGHT
TZOFFSETFROM:-0400
TZOFFSETTO:-0300
TZNAME:ADT
DTSTART:20240310T060000
END:DAYLIGHT
BEGIN:STANDARD
TZOFFSETFROM:-0300
TZOFFSETTO:-0400
TZNAME:AST
DTSTART:20241103T050000
END:STANDARD
END:VTIMEZONE
BEGIN:VEVENT
DTSTART;TZID=America/Halifax:20240611T180000
DTEND;TZID=America/Halifax:20240611T200000
DTSTAMP:20260419T115436
CREATED:20240528T205753Z
LAST-MODIFIED:20240528T205753Z
UID:14372-1718128800-1718136000@sochige.cl
SUMMARY:Charla "Estado del arte de Micropilotes"
DESCRIPTION:11 de Junio\, 18.00 hrs\nPresenta: Sebastian Lobo – Guerrero\nTitulo de la charla: «Estado del arte de Micropilotes»\n\nhttps://reuna.zoom.us/meeting/register/tZIqcOqsqj4tGNWWvcdImeRmZaftpLqVLEAH
URL:https://sochige.cl/2024/05/28/charla-estado-del-arte-de-micropilotes/
ATTACH;FMTTYPE=image/jpeg:https://sochige.cl/wp-content/uploads/2024/05/Charla-Estado-del-arte-de-Micropilotes.jpg
END:VEVENT
BEGIN:VEVENT
DTSTART;VALUE=DATE:20240612
DTEND;VALUE=DATE:20240615
DTSTAMP:20260419T115436
CREATED:20240112T063451Z
LAST-MODIFIED:20240112T063451Z
UID:14133-1718150400-1718409599@sochige.cl
SUMMARY:Conferencia Internacional Tailings 2024
DESCRIPTION:
URL:https://sochige.cl/2024/01/12/conferencia-internacional-tailings-2024/
ATTACH;FMTTYPE=image/jpeg:https://sochige.cl/wp-content/uploads/2024/01/img-sochige-tailllin-2024.jpg
END:VEVENT
BEGIN:VEVENT
DTSTART;TZID=America/Halifax:20240625T180000
DTEND;TZID=America/Halifax:20240625T200000
DTSTAMP:20260419T115436
CREATED:20240621T145047Z
LAST-MODIFIED:20240621T145047Z
UID:14383-1719338400-1719345600@sochige.cl
SUMMARY:Charla "Implementación de la amplitud del espectro HVSR para definir espectros de respuesta: Una innovadora y nueva metodología"
DESCRIPTION:Presenta: Camilo Pinilla\, Ingeniero Civil\, U de Chile\, MSc y Ph.D.\, University of California\, Berkele\nFecha y hora: martes 25 de junio\, 18.00 hrs\nhttps://reuna.zoom.us/meeting/register/tZEvde-uqj8tEt1xzewtG0WG5Ye2miPvUYp0
URL:https://sochige.cl/2024/06/21/charla-implementacion-de-la-amplitud-del-espectro-hvsr-para-definir-espectros-de-respuesta-una-innovadora-y-nueva-metodologia/
ATTACH;FMTTYPE=image/jpeg:https://sochige.cl/wp-content/uploads/2024/06/Charla-junio-Camilo-Pinilla-Ramos.jpg
END:VEVENT
END:VCALENDAR